BEGIN:VCALENDAR
VERSION:2.0
PRODID:-//SWE3 - ECPv6.15.13.1//NONSGML v1.0//EN
CALSCALE:GREGORIAN
METHOD:PUBLISH
X-WR-CALNAME:SWE3
X-ORIGINAL-URL:https://stage.swe3.se
X-WR-CALDESC:Händelser för SWE3
REFRESH-INTERVAL;VALUE=DURATION:PT1H
X-Robots-Tag:noindex
X-PUBLISHED-TTL:PT1H
BEGIN:VTIMEZONE
TZID:Europe/Stockholm
BEGIN:DAYLIGHT
TZOFFSETFROM:+0100
TZOFFSETTO:+0200
TZNAME:CEST
DTSTART:20250330T010000
END:DAYLIGHT
BEGIN:STANDARD
TZOFFSETFROM:+0200
TZOFFSETTO:+0100
TZNAME:CET
DTSTART:20251026T010000
END:STANDARD
BEGIN:DAYLIGHT
TZOFFSETFROM:+0100
TZOFFSETTO:+0200
TZNAME:CEST
DTSTART:20260329T010000
END:DAYLIGHT
BEGIN:STANDARD
TZOFFSETFROM:+0200
TZOFFSETTO:+0100
TZNAME:CET
DTSTART:20261025T010000
END:STANDARD
BEGIN:DAYLIGHT
TZOFFSETFROM:+0100
TZOFFSETTO:+0200
TZNAME:CEST
DTSTART:20270328T010000
END:DAYLIGHT
BEGIN:STANDARD
TZOFFSETFROM:+0200
TZOFFSETTO:+0100
TZNAME:CET
DTSTART:20271031T010000
END:STANDARD
END:VTIMEZONE
BEGIN:VEVENT
DTSTART;VALUE=DATE:20260514
DTEND;VALUE=DATE:20260517
DTSTAMP:20260419T175222
CREATED:20251217T120657Z
LAST-MODIFIED:20251217T121255Z
UID:10001123-1778724000-1778896799@stage.swe3.se
SUMMARY:Cup i Jönköping
DESCRIPTION:Jönköping Spartans bjuder in till cup i Jönköping under Kristihimmelsfärdshelgen den 14-15 maj 2026. \n\n\n\nPreliminära spelformat: \n\n\n\n\nU11: Flexfotboll\n\n\n\nU13: Konceptet som det beslutades om på SWE3:s Föreningskonferens i november\n\n\n\nU15: 9-manna\n\n\n\n\nVia deras intresseanmälan går det att tycka till om spelformat\, upplägg för U15 samt om cupen ska spelas under en eller två dagar.  \n\n\n\nIntresseanmälan är öppen fram till 11 januari 2026\, definitiv anmälan öppnar en vecka senare och stänger preliminärt 30 mars. Mer information om kostnader och detaljer kommer då.
URL:https://stage.swe3.se/event/cup-i-jonkoping/
ATTACH;FMTTYPE=image/jpeg:https://stage.swe3.se/wp-content/uploads/2025/12/PJ96040-scaled.jpg
END:VEVENT
BEGIN:VEVENT
DTSTART;VALUE=DATE:20260613
DTEND;VALUE=DATE:20260615
DTSTAMP:20260419T175222
CREATED:20260112T142150Z
LAST-MODIFIED:20260112T142608Z
UID:10001171-1781316000-1781402399@stage.swe3.se
SUMMARY:Strandcupen 2026
DESCRIPTION:Tyresö Royal Crowns hälsar varmt välkomna till Strandcupen upplaga 2026. Strandcupen är en förbundssanktionerad turnering i amerikansk fotboll för åldersklassen U13\, är öppen för samtliga klubbar i Sverige och även för utländska lag. \n\n\n\nStrandcupen vill ge så många som möjligt chansen att delta – anmäl hur många ni är så pusslar de ihop lag så att alla får spela. \n\n\n\nMer information och länk till anmälan finns här
URL:https://stage.swe3.se/event/strandcupen-2026/
ATTACH;FMTTYPE=image/jpeg:https://stage.swe3.se/wp-content/uploads/2026/01/555501931_1397288885730014_8800294525111515324_n.jpg
END:VEVENT
END:VCALENDAR